BEGIN:VCALENDAR
VERSION:2.0
PRODID:icalendar-ruby
CALSCALE:GREGORIAN
METHOD:PUBLISH
BEGIN:VEVENT
DTSTAMP:20260423T113450Z
UID:136-649025@cedarviewchurch.com
DTSTART:20260516T150000Z
DTEND:20260516T170000Z
CLASS:PUBLIC
CREATED:20260414T142635
DESCRIPTION:Ladies of all ages\, you are hereby cordially invited to high t
 ea.\nFeel free to come in fancy attire. (optional)\nOpen to all ages.\nKin
 dly R.S.V.P. so we know how many to prepare for (including those under 10)
 .\n 
LAST-MODIFIED:20260414T142635
LOCATION:Cedarview Church   |   20 Cedar St.\, Paris
SUMMARY:High Tea
URL;VALUE=URI:https://cedarviewchurch.com/events/high-tea/2026-05-16
ATTACH;FILENAME=High-Tea----website.jpg;FMTTYPE=image/jpeg:https://dq5pwpg1
 q8ru0.cloudfront.net/2026/04/14/18/26/35/24178fd0-ac9e-4478-8189-d96b7bb4f
 c88/High-Tea----website.jpg
END:VEVENT
END:VCALENDAR
