BEGIN:VCALENDAR
VERSION:2.0
PRODID:icalendar-ruby
CALSCALE:GREGORIAN
METHOD:PUBLISH
BEGIN:VEVENT
DTSTAMP:20260422T085924Z
UID:133-649005@cedarviewchurch.com
DTSTART:20260423T160000Z
DTEND:20260423T180000Z
CLASS:PUBLIC
CREATED:20260414T132222
DESCRIPTION:Worship\, fun and fellowship for all our 55+ Cedarview family.\
 nA - M please bring a Main Dish\nN - Z please bring a Salad or Dessert
LAST-MODIFIED:20260414T132222
LOCATION:Cedarview Church   |   20 Cedar St.\, Paris
SUMMARY:Hilltoppers
URL;VALUE=URI:https://cedarviewchurch.com/events/hilltoppers--133/2026-04-2
 3
ATTACH;FILENAME=Hilltoppers----website.jpg;FMTTYPE=image/jpeg:https://dq5pw
 pg1q8ru0.cloudfront.net/2026/04/14/17/21/33/074dc3fa-c585-440e-987e-d4952c
 93b964/Hilltoppers----website.jpg
END:VEVENT
END:VCALENDAR
