BEGIN:VCALENDAR
VERSION:2.0
PRODID:icalendar-ruby
CALSCALE:GREGORIAN
METHOD:PUBLISH
BEGIN:VEVENT
DTSTAMP:20260423T113151Z
UID:134-649006@cedarviewchurch.com
DTSTART:20260425T130000Z
DTEND:20260425T150000Z
CLASS:PUBLIC
CREATED:20260414T134013
DESCRIPTION:Food\, friends\, and fellowship\; and we won't make you talk ab
 out your feelings...\n...unless you want to.\n \nFourth Saturday of every
  month.\nPlease register so we know how many to prepare for.
LAST-MODIFIED:20260414T134013
LOCATION:Cedarview Church   |   20 Cedar St.\, Paris
SUMMARY:Men's Breakfast
URL;VALUE=URI:https://cedarviewchurch.com/events/mens-breakfast--134/2026-0
 4-25
ATTACH;FILENAME=Men-Breakfast----website.jpg;FMTTYPE=image/jpeg:https://dq5
 pwpg1q8ru0.cloudfront.net/2026/04/14/17/40/13/e104db97-0522-43ac-abb7-12d0
 1517572e/Men-Breakfast----website.jpg
END:VEVENT
END:VCALENDAR
