BEGIN:VCALENDAR
VERSION:2.0
PRODID:icalendar-ruby
CALSCALE:GREGORIAN
METHOD:PUBLISH
BEGIN:VEVENT
DTSTAMP:20260423T064845Z
UID:31-669083@cedarviewchurch.com
DTSTART:20261011T223000Z
DTEND:20261011T233000Z
CLASS:PUBLIC
CREATED:20260422T214805
DESCRIPTION:Join us in the Auditorium for a prayer meeting weekly on Sunday
  nights. 
LAST-MODIFIED:20260422T214805
LOCATION:Auditorium
SUMMARY:Prayer Meeting
URL;VALUE=URI:https://cedarviewchurch.com/events/prayer-meeting/2026-10-11
ATTACH;FILENAME=Cedarview-Primary_Black.png;FMTTYPE=image/png:https://dq5pw
 pg1q8ru0.cloudfront.net/2024/07/14/16/29/31/3ec7980c-7810-4ac9-a04a-5e55c9
 77231f/Cedarview-Primary_Black.png
END:VEVENT
END:VCALENDAR
